BEGIN:VCALENDAR
VERSION:2.0
PRODID:-//eventon.com NONSGML v1.0//EN
CALSCALE:GREGORIAN
METHOD:PUBLISH
BEGIN:VEVENT
UID:69e7304272fd2
DTSTAMP:20260421T080730Z
DTSTART:20260416
DTEND:20260417
LOCATION:Realschule Platz Vilafranca 3\,  77815 Bühl
SUMMARY:AC Termin - Ersatztermin
DESCRIPTION:Klassenstufe 8 und AC-Lehrer\nhttps://realschule-buehl.de/termi
 n/ac-termin-ersatztermin
URL:https://realschule-buehl.de/termin/ac-termin-ersatztermin
END:VEVENT
END:VCALENDAR