BEGIN:VCALENDAR
VERSION:2.0
PRODID:-//eventon.com NONSGML v1.0//EN
CALSCALE:GREGORIAN
METHOD:PUBLISH
BEGIN:VEVENT
UID:69e4ddfbebbfd
DTSTAMP:20260419T135155Z
DTSTART:20260327
DTEND:20260328
LOCATION:Realschule Platz Vilafranca 3\,  77815 Bühl
SUMMARY:Rückgabe der Meldezettel 4. Kernfach in Klasse 6
DESCRIPTION:Rückgabe der Meldezettel für WPF [AES | F |T] für Klassenstu
 fe 6\nhttps://realschule-buehl.de/termin/rueckgabe-der-meldezettel-4-kernfa
 ch-in-klasse-6
URL:https://realschule-buehl.de/termin/rueckgabe-der-meldezettel-4-kernfach-in-klasse-6
END:VEVENT
END:VCALENDAR