BEGIN:VCALENDAR
VERSION:2.0
PRODID:-//eventon.com NONSGML v1.0//EN
CALSCALE:GREGORIAN
METHOD:PUBLISH
BEGIN:VEVENT
UID:69e73478f30c1
DTSTAMP:20260421T082528Z
DTSTART:20260317T183000Z
DTEND:20260317T235000Z
LOCATION:
SUMMARY:Information zum 4. Kernfach [nur AES/F/T in Klassenstufe 6
DESCRIPTION:4. Kernfach und Klassenpflegschaft Klassenstufe 5\nhttps://real
 schule-buehl.de/termin/informationsabend-4-kernfach
URL:https://realschule-buehl.de/termin/informationsabend-4-kernfach
END:VEVENT
END:VCALENDAR